BEGIN:VCALENDAR
VERSION:2.0
PRODID:-//BOSS - ECPv6.15.20//NONSGML v1.0//EN
CALSCALE:GREGORIAN
METHOD:PUBLISH
X-ORIGINAL-URL:https://businessownersuccessionstrategies.com
X-WR-CALDESC:Events for BOSS
REFRESH-INTERVAL;VALUE=DURATION:PT1H
X-Robots-Tag:noindex
X-PUBLISHED-TTL:PT1H
BEGIN:VTIMEZONE
TZID:America/Detroit
BEGIN:DAYLIGHT
TZOFFSETFROM:-0500
TZOFFSETTO:-0400
TZNAME:EDT
DTSTART:20240310T070000
END:DAYLIGHT
BEGIN:STANDARD
TZOFFSETFROM:-0400
TZOFFSETTO:-0500
TZNAME:EST
DTSTART:20241103T060000
END:STANDARD
BEGIN:DAYLIGHT
TZOFFSETFROM:-0500
TZOFFSETTO:-0400
TZNAME:EDT
DTSTART:20250309T070000
END:DAYLIGHT
BEGIN:STANDARD
TZOFFSETFROM:-0400
TZOFFSETTO:-0500
TZNAME:EST
DTSTART:20251102T060000
END:STANDARD
BEGIN:DAYLIGHT
TZOFFSETFROM:-0500
TZOFFSETTO:-0400
TZNAME:EDT
DTSTART:20260308T070000
END:DAYLIGHT
BEGIN:STANDARD
TZOFFSETFROM:-0400
TZOFFSETTO:-0500
TZNAME:EST
DTSTART:20261101T060000
END:STANDARD
BEGIN:DAYLIGHT
TZOFFSETFROM:-0500
TZOFFSETTO:-0400
TZNAME:EDT
DTSTART:20270314T070000
END:DAYLIGHT
BEGIN:STANDARD
TZOFFSETFROM:-0400
TZOFFSETTO:-0500
TZNAME:EST
DTSTART:20271107T060000
END:STANDARD
END:VTIMEZONE
BEGIN:VEVENT
DTSTART;TZID=America/Detroit:20260218T110000
DTEND;TZID=America/Detroit:20260218T120000
DTSTAMP:20260422T120424
CREATED:20251205T210920Z
LAST-MODIFIED:20251205T213248Z
UID:25145-1771412400-1771416000@businessownersuccessionstrategies.com
SUMMARY:Webinar: Finding Your Freedom Point
DESCRIPTION:When your business makes up most of your net worth and selling it would garner enough money to live carefree for the rest of your life\, there’s no financial reason to continue owning your business. You may enjoy the challenge\, the social interactions\, and the creative process of building a business\, but looking strictly at the numbers\, and keeping it may be an unnecessary risk. \n\n\n\nEvery day you retain ownership in your business beyond Your Freedom Point\, you are risking your freedom. Join us for this online session to figure out how to calculate your freedom point and learn everything you need to know about the topic.
URL:https://businessownersuccessionstrategies.com/event/webinar-finding-your-freedom-point/
ATTACH;FMTTYPE=image/png:https://businessownersuccessionstrategies.com/wp-content/uploads/2025/01/1726077610437.png
END:VEVENT
BEGIN:VEVENT
DTSTART;TZID=America/Detroit:20260127T143000
DTEND;TZID=America/Detroit:20260127T180000
DTSTAMP:20260422T120424
CREATED:20251210T202939Z
LAST-MODIFIED:20251210T202940Z
UID:25152-1769524200-1769536800@businessownersuccessionstrategies.com
SUMMARY:From Owner-Centric to Buyer-Ready: Your Path to a Successful Transition
DESCRIPTION:The most critical decisions a business owner will ever make: stepping away from the company you’ve built – and setting it up to thrive without you. \n\n\n\nJoin us on Tuesday\, January 27th\, from 2:30 – 6:00 PM at the Metropolitan Ballroom in Golden Valley for a practical\, action-oriented discussion on how to prepare your company – and yourself – for a successful transition. Together\, our teams will walk through the key building blocks of a strategic exit plan: \n\n\n\n\nKnowing your number and defining your financial goals\n\n\n\nBuilding a leadership team that can operate without you\n\n\n\nEvaluating your exit pathways and aligning them with your long-term vision\n\n\n\n\nWhether your transition is one year or ten years away\, the earlier you start\, the more options you have – and the more value you retain.
URL:https://businessownersuccessionstrategies.com/event/from-owner-centric-to-buyer-ready-your-path-to-a-successful-transition/
LOCATION:Metropolitan Ballroom\, 5418 Wayzata Boulevard\, Golden Valley\, 55416\, United States
ATTACH;FMTTYPE=image/jpeg:https://businessownersuccessionstrategies.com/wp-content/uploads/2025/12/https___cdn.evbuc_.com_images_1172322669_2282287728383_1_original.jpg
END:VEVENT
BEGIN:VEVENT
DTSTART;TZID=America/Detroit:20251119T110000
DTEND;TZID=America/Detroit:20251119T120000
DTSTAMP:20260422T120424
CREATED:20250825T183637Z
LAST-MODIFIED:20250825T183638Z
UID:25011-1763550000-1763553600@businessownersuccessionstrategies.com
SUMMARY:Webinar: Introduction to Exit and Succession Planning
DESCRIPTION:Wondering how you’ll eventually step away from your business? It’s never too early to start planning your exit strategy. If you’re curious about how succession planning and retirement fit into the bigger picture\, you’re in the right place.
URL:https://businessownersuccessionstrategies.com/event/webinar-introduction-to-exit-and-succession-planning/
ATTACH;FMTTYPE=image/png:https://businessownersuccessionstrategies.com/wp-content/uploads/2025/08/1733934175832.png
END:VEVENT
BEGIN:VEVENT
DTSTART;TZID=America/Detroit:20250820T110000
DTEND;TZID=America/Detroit:20250820T120000
DTSTAMP:20260422T120424
CREATED:20250521T193333Z
LAST-MODIFIED:20250522T040434Z
UID:24910-1755687600-1755691200@businessownersuccessionstrategies.com
SUMMARY:Business Planning Aiming to Maximize Value
DESCRIPTION:Take an hour to gain valuable insights and explore your exit options. This complimentary info session is designed to empower you as a business owner. Are you ready to break free from the “owner’s trap”? Discover if you’re ready to step back and enjoy the fruits of your labor.
URL:https://businessownersuccessionstrategies.com/event/business-planning-aiming-to-maximize-value/
ATTACH;FMTTYPE=image/png:https://businessownersuccessionstrategies.com/wp-content/uploads/2024/09/Screen-Shot-2024-09-25-at-12.22.13-PM.png
END:VEVENT
BEGIN:VEVENT
DTSTART;TZID=America/Detroit:20250521T110000
DTEND;TZID=America/Detroit:20250521T120000
DTSTAMP:20260422T120424
CREATED:20250217T003736Z
LAST-MODIFIED:20250521T222447Z
UID:24663-1747825200-1747828800@businessownersuccessionstrategies.com
SUMMARY:Webinar: Get Your House in Order
DESCRIPTION:Everyday\, we work in our business\, but it is important to take a step back and work ON the business. So what does this all mean? Getting your financial house in order involves cleaning up your books\, assessing the overall financial health of your business\, and putting together the information that buyers will be looking for. Sound a little overwhelming? We’ve got the perfect easy first step for you — join us for this complimentary webinar!
URL:https://businessownersuccessionstrategies.com/event/webinar-get-your-house-in-order/
ATTACH;FMTTYPE=image/jpeg:https://businessownersuccessionstrategies.com/wp-content/uploads/2025/02/BOSS-Webinar-Branding-2024.jpg
END:VEVENT
BEGIN:VEVENT
DTSTART;TZID=America/Detroit:20250219T110000
DTEND;TZID=America/Detroit:20250219T120000
DTSTAMP:20260422T120424
CREATED:20250123T185909Z
LAST-MODIFIED:20250217T152609Z
UID:24514-1739962800-1739966400@businessownersuccessionstrategies.com
SUMMARY:Webinar: Your Freedom Point
DESCRIPTION:When your business makes up most of your net worth and selling it would garner enough money to live carefree for the rest of your life\, there’s no financial reason to continue owning your business. You may enjoy the challenge\, the social interactions\, and the creative process of building a business\, but looking strictly at the numbers\, and keeping it may be an unnecessary risk. \n\n\n\nEvery day you retain ownership in your business beyond Your Freedom Point\, you are risking your freedom. Join us for this online session to figure out how to calculate your freedom point and learn everything you need to know about the topic.
URL:https://businessownersuccessionstrategies.com/event/webinar-your-freedom-point/
ATTACH;FMTTYPE=image/png:https://businessownersuccessionstrategies.com/wp-content/uploads/2025/01/1726077610437.png
END:VEVENT
END:VCALENDAR